BEGIN:VCALENDAR
VERSION:2.0
PRODID:-//DBSA Westchester NY - ECPv5.16.0//NONSGML v1.0//EN
CALSCALE:GREGORIAN
METHOD:PUBLISH
X-WR-CALNAME:DBSA Westchester NY
X-ORIGINAL-URL:https://dbsawestchester.org
X-WR-CALDESC:Events for DBSA Westchester NY
REFRESH-INTERVAL;VALUE=DURATION:PT1H
X-Robots-Tag:noindex
X-PUBLISHED-TTL:PT1H
BEGIN:VTIMEZONE
TZID:UTC
BEGIN:STANDARD
TZOFFSETFROM:+0000
TZOFFSETTO:+0000
TZNAME:UTC
DTSTART:20220101T000000
END:STANDARD
END:VTIMEZONE
BEGIN:VEVENT
DTSTART;TZID=UTC:20220510T190000
DTEND;TZID=UTC:20220510T203000
DTSTAMP:20260422T220505
CREATED:20220325T234829Z
LAST-MODIFIED:20220325T235724Z
UID:1457-1652209200-1652214600@dbsawestchester.org
SUMMARY:Free external webinar: Postpartum Depression and  Maternal Mental Health: How Caregivers Can Help”.
DESCRIPTION:Please see our website announcement for details.
URL:https://dbsawestchester.org/event/free-external-webinar-postpartum-depression-and-maternal-mental-health-how-caregivers-can-help-on-tuesday-may-10-2022-from-700-to-830-pm-et-400-to-530-pm-pt/
END:VEVENT
BEGIN:VEVENT
DTSTART;TZID=UTC:20220412T190000
DTEND;TZID=UTC:20220412T203000
DTSTAMP:20260422T220505
CREATED:20220221T135728Z
LAST-MODIFIED:20220221T135730Z
UID:1428-1649790000-1649795400@dbsawestchester.org
SUMMARY:Free External Webinar: “Creating Healthy Tech & Media Habits With Your Teen”
DESCRIPTION:This webinar is offered by Families for Depression Awareness; see our announcement for details. Click here to register.
URL:https://dbsawestchester.org/event/free-external-webinar-creating-healthy-tech-media-habits-with-your-teen/
END:VEVENT
BEGIN:VEVENT
DTSTART;TZID=UTC:20220330T150000
DTEND;TZID=UTC:20220330T170000
DTSTAMP:20260422T220505
CREATED:20220325T235122Z
LAST-MODIFIED:20220326T000118Z
UID:1459-1648652400-1648659600@dbsawestchester.org
SUMMARY:Free webinar for medical practitioners on new approaches to Major Depressive Disorder.
DESCRIPTION:Please see our website announcement for details.
URL:https://dbsawestchester.org/event/free-webinar-for-medical-practitioners-on-new-approaches-to-major-depressive-disorder-wednesday-march-30-2022-300-500-pm-et/
END:VEVENT
END:VCALENDAR